BEGIN:VCALENDAR
VERSION:2.0
PRODID:-//The Playhouse Theatre - ECPv6.14.2//NONSGML v1.0//EN
CALSCALE:GREGORIAN
METHOD:PUBLISH
X-ORIGINAL-URL:https://playhousecafe.co.nz
X-WR-CALDESC:Events for The Playhouse Theatre
REFRESH-INTERVAL;VALUE=DURATION:PT1H
X-Robots-Tag:noindex
X-PUBLISHED-TTL:PT1H
BEGIN:VTIMEZONE
TZID:Pacific/Auckland
BEGIN:STANDARD
TZOFFSETFROM:+1300
TZOFFSETTO:+1200
TZNAME:NZST
DTSTART:20240406T140000
END:STANDARD
BEGIN:DAYLIGHT
TZOFFSETFROM:+1200
TZOFFSETTO:+1300
TZNAME:NZDT
DTSTART:20240928T140000
END:DAYLIGHT
END:VTIMEZONE
BEGIN:VEVENT
DTSTART;VALUE=DATE:20240201
DTEND;VALUE=DATE:20240202
DTSTAMP:20260421T213314
CREATED:20240112T214012Z
LAST-MODIFIED:20240112T214024Z
UID:26858-1706745600-1706831999@playhousecafe.co.nz
SUMMARY:MY BABY XTRA SHOW ADDED...get in quick!
DESCRIPTION:https://m.moshtix.co.nz/v2/event/my-baby-loves-voodoo-10th-anniversary-tour-nelson-second-show/160930?fbclid=IwAR2bpsJwdKMzuplNBCiR2ULprlQpTn6ja-DE-ADBMs8H-sfpxxJvKL_oCE4
URL:https://playhousecafe.co.nz/calendar/my-baby-xtra-show-added-get-in-quick/
END:VEVENT
BEGIN:VEVENT
DTSTART;VALUE=DATE:20240203
DTEND;VALUE=DATE:20240204
DTSTAMP:20260421T213314
CREATED:20231217T033123Z
LAST-MODIFIED:20231217T033123Z
UID:26804-1706918400-1707004799@playhousecafe.co.nz
SUMMARY:Viami Mice\, Hair metal covers band
DESCRIPTION:https://www.facebook.com/events/1301517600567268
URL:https://playhousecafe.co.nz/calendar/viami-mice-hair-metal-covers-band/
END:VEVENT
BEGIN:VEVENT
DTSTART;VALUE=DATE:20240209
DTEND;VALUE=DATE:20240210
DTSTAMP:20260421T213314
CREATED:20231217T034523Z
LAST-MODIFIED:20231217T034523Z
UID:26834-1707436800-1707523199@playhousecafe.co.nz
SUMMARY:Booze and Crac! Irish and Scottish Comedy Night
DESCRIPTION:
URL:https://playhousecafe.co.nz/calendar/booze-and-crac-irish-and-scottish-comedy-night/
END:VEVENT
BEGIN:VEVENT
DTSTART;VALUE=DATE:20240210
DTEND;VALUE=DATE:20240211
DTSTAMP:20260421T213314
CREATED:20231217T034440Z
LAST-MODIFIED:20231217T034440Z
UID:26832-1707523200-1707609599@playhousecafe.co.nz
SUMMARY:Closed For Wedding
DESCRIPTION:
URL:https://playhousecafe.co.nz/calendar/closed-for-wedding-9/
END:VEVENT
BEGIN:VEVENT
DTSTART;VALUE=DATE:20240214
DTEND;VALUE=DATE:20240215
DTSTAMP:20260421T213314
CREATED:20231217T033203Z
LAST-MODIFIED:20231217T033203Z
UID:26807-1707868800-1707955199@playhousecafe.co.nz
SUMMARY:Private function
DESCRIPTION:
URL:https://playhousecafe.co.nz/calendar/private-function-2/
END:VEVENT
BEGIN:VEVENT
DTSTART;VALUE=DATE:20240217
DTEND;VALUE=DATE:20240218
DTSTAMP:20260421T213314
CREATED:20231217T033330Z
LAST-MODIFIED:20231217T033330Z
UID:26811-1708128000-1708214399@playhousecafe.co.nz
SUMMARY:Closed for Wedding
DESCRIPTION:
URL:https://playhousecafe.co.nz/calendar/closed-for-wedding-5/
END:VEVENT
BEGIN:VEVENT
DTSTART;VALUE=DATE:20240218
DTEND;VALUE=DATE:20240219
DTSTAMP:20260421T213314
CREATED:20231217T033500Z
LAST-MODIFIED:20231217T033500Z
UID:26813-1708214400-1708300799@playhousecafe.co.nz
SUMMARY:Adriano Sangineto\, harp player from the Italy
DESCRIPTION:
URL:https://playhousecafe.co.nz/calendar/adriano-sangineto-harp-player-from-the-italy/
END:VEVENT
BEGIN:VEVENT
DTSTART;VALUE=DATE:20240223
DTEND;VALUE=DATE:20240224
DTSTAMP:20260421T213314
CREATED:20231217T033526Z
LAST-MODIFIED:20231217T033526Z
UID:26815-1708646400-1708732799@playhousecafe.co.nz
SUMMARY:Paul Madsen!!
DESCRIPTION:
URL:https://playhousecafe.co.nz/calendar/paul-madsen/
END:VEVENT
BEGIN:VEVENT
DTSTART;VALUE=DATE:20240224
DTEND;VALUE=DATE:20240225
DTSTAMP:20260421T213314
CREATED:20231217T033557Z
LAST-MODIFIED:20231217T033557Z
UID:26817-1708732800-1708819199@playhousecafe.co.nz
SUMMARY:Closed for Wedding
DESCRIPTION:
URL:https://playhousecafe.co.nz/calendar/closed-for-wedding-6/
END:VEVENT
END:VCALENDAR