BEGIN:VCALENDAR
VERSION:2.0
PRODID:-//The Playhouse Theatre - ECPv6.14.2//NONSGML v1.0//EN
CALSCALE:GREGORIAN
METHOD:PUBLISH
X-WR-CALNAME:The Playhouse Theatre
X-ORIGINAL-URL:https://playhousecafe.co.nz
X-WR-CALDESC:Events for The Playhouse Theatre
REFRESH-INTERVAL;VALUE=DURATION:PT1H
X-Robots-Tag:noindex
X-PUBLISHED-TTL:PT1H
BEGIN:VTIMEZONE
TZID:Pacific/Auckland
BEGIN:STANDARD
TZOFFSETFROM:+1300
TZOFFSETTO:+1200
TZNAME:NZST
DTSTART:20170401T140000
END:STANDARD
BEGIN:DAYLIGHT
TZOFFSETFROM:+1200
TZOFFSETTO:+1300
TZNAME:NZDT
DTSTART:20170923T140000
END:DAYLIGHT
END:VTIMEZONE
BEGIN:VEVENT
DTSTART;TZID=Pacific/Auckland:20170625T170000
DTEND;TZID=Pacific/Auckland:20170625T190000
DTSTAMP:20260423T163509
CREATED:20170620T120346Z
LAST-MODIFIED:20170620T120346Z
UID:649-1498410000-1498417200@playhousecafe.co.nz
SUMMARY:Off the Cuff improv present 'Money!'
DESCRIPTION:Money\, it’s a necessary evil or so it seems. We can feel like slaves to it; everybody needs it and most people want more it. It makes the world go round; although gravity\, the magnetic poles and angular momentum also help. \nCome and join Off the Cuff at the Playhouse\, Mapua\, as they shake their money maker and show you that money is the root of all hilarity! We might even give some $$$ away! * \nOff the Cuff\, Nelson’s own Improv ensemble\, make your ideas mature into stories and scenes of theatrical comedy. Off the Cuff\, rough on the funny bone\, gentle on the wallet.  \n*and by “might” we mean “won’t!”. Sorry. \nOff the Cuff present ‘Money!’ – The (almost) End of Financial Year Show\nSunday 25 June\, 5pm show $15 at the door\, $12 for kids\nBook online before June 25 and get the 2-for-1 tix deal (2 tickets for $15 +GST) Click here http://tinyurl.com/yaqjxwv9  \nBookings for dinner\, call the Playhouse on 03 540 2985. The food is great!
URL:https://playhousecafe.co.nz/calendar/off-the-cuff-improv-present-money/
LOCATION:The Playhouse Cafe & Theatre Restaurant\, 171 Westdale road\, Mapua\, 7081\, NZ
ATTACH;FMTTYPE=image/png:https://playhousecafe.co.nz/wp-content/uploads/2017/06/649_image_18955076_10158821640730261_8989856256942617754_o.png
END:VEVENT
BEGIN:VEVENT
DTSTART;TZID=Pacific/Auckland:20170623T180000
DTEND;TZID=Pacific/Auckland:20170623T230000
DTSTAMP:20260423T163509
CREATED:20170620T122213Z
LAST-MODIFIED:20170620T125144Z
UID:686-1498240800-1498258800@playhousecafe.co.nz
SUMMARY:70's DISCO Free Entry!
DESCRIPTION:Fri 23rd June: 1970’s Disco Night\nFREE TO ALL\, light music and dinner from 6pm\, Dancing from 8pm till late\nDance the night away to the best of the 70’s. Dress up and have a ball. \n$35 two course Buffet on the night plus the snacks menu.
URL:https://playhousecafe.co.nz/calendar/70s-disco-free-entry/
LOCATION:The Playhouse Cafe and Theatre Restaurant\, 171 Westdale rd\, Mapua\, 7081\, NZ
ATTACH;FMTTYPE=image/jpeg:https://playhousecafe.co.nz/wp-content/uploads/2017/06/686_image_19237982_1617508738268484_6229477980250099089_o.jpg
END:VEVENT
END:VCALENDAR