BEGIN:VCALENDAR
VERSION:2.0
PRODID:-//The Playhouse Theatre - ECPv6.14.2//NONSGML v1.0//EN
CALSCALE:GREGORIAN
METHOD:PUBLISH
X-WR-CALNAME:The Playhouse Theatre
X-ORIGINAL-URL:https://playhousecafe.co.nz
X-WR-CALDESC:Events for The Playhouse Theatre
REFRESH-INTERVAL;VALUE=DURATION:PT1H
X-Robots-Tag:noindex
X-PUBLISHED-TTL:PT1H
BEGIN:VTIMEZONE
TZID:Pacific/Auckland
BEGIN:STANDARD
TZOFFSETFROM:+1300
TZOFFSETTO:+1200
TZNAME:NZST
DTSTART:20170401T140000
END:STANDARD
BEGIN:DAYLIGHT
TZOFFSETFROM:+1200
TZOFFSETTO:+1300
TZNAME:NZDT
DTSTART:20170923T140000
END:DAYLIGHT
END:VTIMEZONE
BEGIN:VEVENT
DTSTART;TZID=Pacific/Auckland:20171117T200000
DTEND;TZID=Pacific/Auckland:20171118T230000
DTSTAMP:20260423T203109
CREATED:20171115T224510Z
LAST-MODIFIED:20171115T224510Z
UID:931-1510948800-1511046000@playhousecafe.co.nz
SUMMARY:Paul Madsen's Super Star Show
DESCRIPTION:Nov Fri 17th and Sat 18th (half full): PAUL MADSEN’S SUPERSTAR SHOW \n$25pp\, Dinner from 6pm\, Show starts at 8pm\, \nMassive $40 2 course gourmet buffet. \nThe ever entertaining Paul Madsen plays all the favorites\, BeeGees\, Queens\, The Eagles\, and much much more. Paul Madsen is the real deal\, he travels to Las Vegas every year with his officially endorsed BeeGees show. This show sells out\, so be in quick!!!
URL:https://playhousecafe.co.nz/calendar/paul-madsens-super-star-show-3/
LOCATION:The Playhouse Cafe and Theatre Restaurant\, 171 Westdale rd\, Mapua\, 7081\, NZ
ATTACH;FMTTYPE=image/jpeg:https://playhousecafe.co.nz/wp-content/uploads/2017/11/931_image_23004755_1760275097325180_5200641858871708052_o.jpg
END:VEVENT
BEGIN:VEVENT
DTSTART;TZID=Pacific/Auckland:20171001T180000
DTEND;TZID=Pacific/Auckland:20171001T210000
DTSTAMP:20260423T203109
CREATED:20170829T024315Z
LAST-MODIFIED:20170829T024315Z
UID:861-1506880800-1506891600@playhousecafe.co.nz
SUMMARY:Eb and Sparrow Sunday Session 6pm show
DESCRIPTION:Eb & Sparrow – To The West single release tour EARLY SHOW MAPUA! \n	• Sunday\, October 1\, 2017 – 6:00pm  8:30pm\n	• The Playhouse theatre & Restaurant \nPRE-SALE / PRE BOOKED ADULT $15 / DOORSALE ADULT $20  / YOUTH $10 /  KIDS FREE\nThe Playhouse Theatre & Restaurant  171 Westdale Road\, Mapua (Tasman)\nCall Nic Roland Tel 03 5402985 Email: theplayhousecafenz@gmail.com \nSupreme sweethearts of New Zealand alt-country\, Eb & Sparrow\, bring you their new single “To The West” from their forthcoming third album\, due out early 2018. To accompany this single release\, the band will be taking to the road\, with seven select shows throughout New Zealand.  “Grand\, cinematic\, and rich with anticipation” Lydia Jenkin NZ Herald  \nWith an edge that harks back to old time jazz and blues singers\, Ebony Lamb of Eb & Sparrow has led her band of talented men on a musical journey that began in 2010. They’ve traversed a pathway that has led them onto stages with an astonishing string of folk-heroes: Rodriguez\, Beth Orton\, Pokey LaFarge\, Wagons\, The Warratahs\, Tami Neilson and Marlon Williams to name a few\, and will now appear at the Southern Fork Americana Fest on a double-bill with West Auckland’s favourite Americana rockers\, The Miltones. \nLed by front-woman Milly’s powerful and soulful vocals\, The Miltones have toured with the likes of The Mick Fleetwood Blues Band and recently released a self-titled album to rave reviews\, receiving 5 stars from the NZ Herald.
URL:https://playhousecafe.co.nz/calendar/eb-and-sparrow-sunday-session-6pm-show/
LOCATION:The Playhouse Cafe and Theatre Restaurant\, 171 Westdale rd\, Mapua\, 7081\, NZ
ATTACH;FMTTYPE=image/jpeg:https://playhousecafe.co.nz/wp-content/uploads/2017/08/861_image_21083787_1695233313829359_7714410876438835662_o.jpg
END:VEVENT
BEGIN:VEVENT
DTSTART;TZID=Pacific/Auckland:20170930T190000
DTEND;TZID=Pacific/Auckland:20170930T230000
DTSTAMP:20260423T203109
CREATED:20170829T022855Z
LAST-MODIFIED:20170829T022855Z
UID:856-1506798000-1506812400@playhousecafe.co.nz
SUMMARY:Cruise Control
DESCRIPTION:Sat 30th Sept: Cruise Control\nLocal lads play good old fashioned rock and roll to get you up on the dance floor\nFREE ENTRY\, Dinner from 6pm\, Show starts at 730pm.
URL:https://playhousecafe.co.nz/calendar/cruise-control/
LOCATION:The Playhouse Cafe and Theatre Restaurant\, 171 Westdale rd\, Mapua\, 7081\, NZ
ATTACH;FMTTYPE=image/jpeg:https://playhousecafe.co.nz/wp-content/uploads/2017/08/856_image_20638013_1670581346294556_4455268701001154511_n.jpg
END:VEVENT
BEGIN:VEVENT
DTSTART;TZID=Pacific/Auckland:20170929T200000
DTEND;TZID=Pacific/Auckland:20170929T230000
DTSTAMP:20260423T203109
CREATED:20170829T022850Z
LAST-MODIFIED:20170829T022850Z
UID:854-1506715200-1506726000@playhousecafe.co.nz
SUMMARY:A Rocky Horror Sing Along Night
DESCRIPTION:Fri 29th Sept: A Rocky Horror Sing Along Night\nThe campest cult classic of all time is coming to Nelson\, and YOU are the star.\nPull on your fishnet stockings and get ready to do the Time Warp again with a sing-along screening of Sir Richard O’Brien’s ‘The Rocky Horror Picture Show’. I see you shiver with antici…………………nation!\n$20\, plus meal option. Dinner from 6pm\, Show starts at 8pm.
URL:https://playhousecafe.co.nz/calendar/a-rocky-horror-sing-along-night/
LOCATION:The Playhouse Cafe and Theatre Restaurant\, 171 Westdale rd\, Mapua\, 7081\, NZ
ATTACH;FMTTYPE=image/jpeg:https://playhousecafe.co.nz/wp-content/uploads/2017/08/854_image_20543912_1670579202961437_3885322926714235447_o.jpg
END:VEVENT
BEGIN:VEVENT
DTSTART;TZID=Pacific/Auckland:20170922T200000
DTEND;TZID=Pacific/Auckland:20170922T230000
DTSTAMP:20260423T203109
CREATED:20170829T022848Z
LAST-MODIFIED:20170829T022848Z
UID:852-1506110400-1506121200@playhousecafe.co.nz
SUMMARY:Elvis Returns with Che Orton and Paul Madsen’s SuperStar Show
DESCRIPTION:Fri 22nd September: Elvis Returns with Che Orton and Paul Madsen’s SuperStar Show\nThe King is back!!! In the form of Che Orton\, judged Australasia’s  best elvis impersonator. He is the real deal. As is the amazing Paul Madsen who tours around the world with his offically endorsed Beegees show.\n$25\, plus meal option. Dinner from 6pm\, Show starts at 8pm.
URL:https://playhousecafe.co.nz/calendar/elvis-returns-with-che-orton-and-paul-madsens-superstar-show/
LOCATION:The Playhouse Cafe and Theatre Restaurant\, 171 Westdale rd\, Mapua\, 7081\, NZ
ATTACH;FMTTYPE=image/jpeg:https://playhousecafe.co.nz/wp-content/uploads/2017/08/852_image_20543775_1670576146295076_8388571306046814394_o.jpg
END:VEVENT
BEGIN:VEVENT
DTSTART;TZID=Pacific/Auckland:20170920T200000
DTEND;TZID=Pacific/Auckland:20170920T230000
DTSTAMP:20260423T203109
CREATED:20170829T022845Z
LAST-MODIFIED:20170829T022845Z
UID:850-1505937600-1505948400@playhousecafe.co.nz
SUMMARY:The Modern Maori Quartet with Annie Crummer
DESCRIPTION:Wednes 20th September: The Modern Maori Quartet and Annie Crummer\nTake 4 good looking\, hip swaying\, suave Maori guys crooning a mix of modern day & classic songs in Te Reo and English and you get: The Modern Maori Quartet (MMQ).\nTickets on sale Monday 7th August. Go to MMQ.NZ for tickets.
URL:https://playhousecafe.co.nz/calendar/the-modern-maori-quartet-with-annie-crummer/
LOCATION:The Playhouse Cafe and Theatre Restaurant\, 171 Westdale rd\, Mapua\, 7081\, NZ
ATTACH;FMTTYPE=image/jpeg:https://playhousecafe.co.nz/wp-content/uploads/2017/08/850_image_20626578_1670569209629103_1247416214860881896_o.jpg
END:VEVENT
BEGIN:VEVENT
DTSTART;TZID=Pacific/Auckland:20170917T100000
DTEND;TZID=Pacific/Auckland:20170917T130000
DTSTAMP:20260423T203109
CREATED:20170620T120429Z
LAST-MODIFIED:20170621T114207Z
UID:679-1505642400-1505653200@playhousecafe.co.nz
SUMMARY:Playhouse Pop-Up Weddings
DESCRIPTION:This is an exciting opportunity for those couple who for one reason or another thought a beautiful wedding would never be possible. Our September launch has a bonus short video of your events snippets and a one off special price of only $3’500.00 \nLike comment and share-Tag a couple who book a Pop-Up wedding and Receive a gift voucher valued at $20.00 \nThe Wedding Hub NZ is excited to present this exclusive opportunity to couples looking to Celebrate their marriage with all the glam but at a fraction of the price. \nWe have booked the Playhouse on your behalf to provide three weddings in one day spreading the costs.  \nBecause this is our first Playhouse pop-up event it will be promoted on Radio More FM with one slot being gifted. So Watch this space!  \nCouples will enjoy…… \n*The Playhouse venue for a 2.5 hour to enjoy their ceremony and mini reception\n*indoor Plan B option\n*Celebrant & Management service by The Dream Maker\n*Photography by Dave Newman\n*Beautiful tasty canapé platters for the couple and up to 20 guests\n*A glass of Celebration bubbles for the couple and up to 20 guests\n*Brides bouquet\, grooms boutonniere and garden styling by D’vine\n*Celebration Cake by Cakes for all Occasions\n*music for the celebration and first dance \nAll this for only $3500.00 per couple\, yes its true!!!  \nSlots: \n*Bridal Breakfast\n*High Tea\n*Sundowner -this option has an up-grade into a larger reception on request. Please ask for a quote.  \nBus service also available on request \nConditions apply \nIf you are too late to book this event do not fret\, if the demand is there we will book other similar events. \nOther available sates in January and March 2018 \nTheweddinghubnz@gmail.com for further information and bookings.  \n25% non refundable deposit will secure your slot.
URL:https://playhousecafe.co.nz/calendar/playhouse-pop-up-weddings/
LOCATION:The Playhouse Cafe\,Mapua\, 171 westdale rd\, Nelson\, NZ
ATTACH;FMTTYPE=image/jpeg:https://playhousecafe.co.nz/wp-content/uploads/2017/06/679_image_19095538_1472977689435808_3127728482670602356_o.jpg
END:VEVENT
BEGIN:VEVENT
DTSTART;TZID=Pacific/Auckland:20170916T190000
DTEND;TZID=Pacific/Auckland:20170916T230000
DTSTAMP:20260423T203109
CREATED:20170829T022843Z
LAST-MODIFIED:20170829T022843Z
UID:848-1505588400-1505602800@playhousecafe.co.nz
SUMMARY:Polestars NZ
DESCRIPTION:Sat 16th September: PoleStars NZ\nThe very best of the NZ pole scene descend on the Playhouse for the countries best pole performance competition\, This event will sell out so please get you tickets from event finder asap.\n$35\, plus meal option\nDinner from 6pm\, Show starts at 7pm.
URL:https://playhousecafe.co.nz/calendar/polestars-nz/
LOCATION:The Playhouse Cafe and Theatre Restaurant\, 171 Westdale rd\, Mapua\, 7081\, NZ
ATTACH;FMTTYPE=image/jpeg:https://playhousecafe.co.nz/wp-content/uploads/2017/08/848_image_20597466_1670565666296124_2404092601143072241_n.jpg
END:VEVENT
BEGIN:VEVENT
DTSTART;TZID=Pacific/Auckland:20170915T200000
DTEND;TZID=Pacific/Auckland:20170915T230000
DTSTAMP:20260423T203109
CREATED:20170829T022841Z
LAST-MODIFIED:20170829T022841Z
UID:846-1505505600-1505516400@playhousecafe.co.nz
SUMMARY:Boogie Train Spring Fling
DESCRIPTION:Fri 15th September: BOOGIE TRAIN! Spring Fling\nThe best blues band in the country return to the Playhouse stage to dust off the winter blues with their brand of high energy blues music.\nDo not miss this!\n$20\, plus meal option\nDinner from 6pm\, Show starts at 8pm.
URL:https://playhousecafe.co.nz/calendar/boogie-train-spring-fling/
LOCATION:The Playhouse Cafe and Theatre Restaurant\, 171 Westdale rd\, Mapua\, 7081\, NZ
ATTACH;FMTTYPE=image/jpeg:https://playhousecafe.co.nz/wp-content/uploads/2017/08/846_image_20525950_1670564276296263_1360384189575377429_n.jpg
END:VEVENT
BEGIN:VEVENT
DTSTART;TZID=Pacific/Auckland:20170910T140000
DTEND;TZID=Pacific/Auckland:20170910T190000
DTSTAMP:20260423T203109
CREATED:20170829T022839Z
LAST-MODIFIED:20170829T022839Z
UID:844-1505052000-1505070000@playhousecafe.co.nz
SUMMARY:Rock Enrol Party
DESCRIPTION:Rock Enrol Party!!\nSunday Sept 10th\, 2pm till 7pm.\nHEAPS OF LIVE BANDS!!! \nEnroll to vote and enjoy listening to some sweet sweet tunes from local musicians young and old. September 23rd 2017 is your day to have a say about what direction your country is heading. If you don’t vote you can’t complain so get out there and tick your box. \nThe easiest way to vote is to enroll first and we are making it easy for you to do this here on site at The Playhouse on Sept 10th between 2pm and 7pm. We will have the electrol commission here to help you enrol as well as heaps of election packs for you fill out. \nLocal politaicains will be there for you to yarn with and discuss your veiws. \nHEAPS OF BANDS ON OFFER!!!\nMedicine Woman\, Squillion\, Sound Prophets\, Francis Maxino\, HATU in da HOUSE! Liam Poole\, The Inverts\, Hoody Time\, Ivasa! \nIts gonna be SWEET!
URL:https://playhousecafe.co.nz/calendar/rock-enrol-party/
LOCATION:The Playhouse Cafe and Theatre Restaurant\, 171 Westdale rd\, Mapua\, 7081\, NZ
ATTACH;FMTTYPE=image/jpeg:https://playhousecafe.co.nz/wp-content/uploads/2017/08/844_image_21200694_1695200810499276_8106398682156495269_o.jpg
END:VEVENT
BEGIN:VEVENT
DTSTART;TZID=Pacific/Auckland:20170909T190000
DTEND;TZID=Pacific/Auckland:20170909T233000
DTSTAMP:20260423T203109
CREATED:20170620T120426Z
LAST-MODIFIED:20170620T120426Z
UID:673-1504983600-1504999800@playhousecafe.co.nz
SUMMARY:Titans of Tunes at The Playhouse
DESCRIPTION:A regional competition for all ages\, all musos\, all genres\, to be their best at original music and enjoy meeting other musos and network.\nFor all (audience members and participating musos) it’s $5 per person or $15 per person (includes bus trip to and return).
URL:https://playhousecafe.co.nz/calendar/titans-of-tunes-at-the-playhouse/
ATTACH;FMTTYPE=image/jpeg:https://playhousecafe.co.nz/wp-content/uploads/2017/06/673_image_19025114_10154830710384436_5781911323189335170_o.jpg
END:VEVENT
BEGIN:VEVENT
DTSTART;TZID=Pacific/Auckland:20170909T190000
DTEND;TZID=Pacific/Auckland:20170909T233000
DTSTAMP:20260423T203109
CREATED:20170620T120426Z
LAST-MODIFIED:20170620T120426Z
UID:674-1504983600-1504999800@playhousecafe.co.nz
SUMMARY:Titans of Tunes at The Playhouse
DESCRIPTION:A regional competition for all ages\, all musos\, all genres\, to be their best at original music and enjoy meeting other musos and network.\nFor all (audience members and participating musos) it’s $5 per person or $15 per person (includes bus trip to and return).
URL:https://playhousecafe.co.nz/calendar/titans-of-tunes-at-the-playhouse-2/
ATTACH;FMTTYPE=image/jpeg:https://playhousecafe.co.nz/wp-content/uploads/2017/06/674_image_19025114_10154830710384436_5781911323189335170_o.jpg
END:VEVENT
BEGIN:VEVENT
DTSTART;TZID=Pacific/Auckland:20170908T190000
DTEND;TZID=Pacific/Auckland:20170908T233000
DTSTAMP:20260423T203109
CREATED:20170829T022837Z
LAST-MODIFIED:20170829T022837Z
UID:842-1504897200-1504913400@playhousecafe.co.nz
SUMMARY:70's vs 80s Disco!!! All Vinyl all Night
DESCRIPTION:Fri 8th September: 70’s vs 80’s DANCE PARTY\nWhich do you prefer? Itch your 70’s itch and cure your 80’s bug at the best dance party in town! Heaps of fun\, feel free to dress up and enjoy a night of two amazing eras! Spinning all vinyl all night\, get ready to get down!!!\nFREE ENTRY\, Light music from 6pm\, Dancing from 730 till late.
URL:https://playhousecafe.co.nz/calendar/70s-vs-80s-disco-all-vinyl-all-night/
LOCATION:The Playhouse Cafe and Theatre Restaurant\, 171 Westdale rd\, Mapua\, 7081\, NZ
ATTACH;FMTTYPE=image/jpeg:https://playhousecafe.co.nz/wp-content/uploads/2017/08/842_image_20616030_1670557152963642_7173130127628086357_o.jpg
END:VEVENT
BEGIN:VEVENT
DTSTART;TZID=Pacific/Auckland:20170902T200000
DTEND;TZID=Pacific/Auckland:20170902T230000
DTSTAMP:20260423T203110
CREATED:20170829T022826Z
LAST-MODIFIED:20170829T022826Z
UID:840-1504382400-1504393200@playhousecafe.co.nz
SUMMARY:Johnny Cash Tribute Night Presented by Stevie K
DESCRIPTION:Sat 2nd September: Johnny Cash Tribute Night Presented by Stevie K\nAfter a sell out show in July we have the return of Johnny Cash. Don’t miss Stevie K present an amazing show based around the life and songs of the man in black.\n$20\, plus meal option\nDinner from 6pm\, Show starts at 8pm.
URL:https://playhousecafe.co.nz/calendar/johnny-cash-tribute-night-presented-by-stevie-k/
LOCATION:The Playhouse Cafe and Theatre Restaurant\, 171 Westdale rd\, Mapua\, 7081\, NZ
ATTACH;FMTTYPE=image/jpeg:https://playhousecafe.co.nz/wp-content/uploads/2017/08/840_image_20543764_1670554249630599_2449154470794083349_o.jpg
END:VEVENT
BEGIN:VEVENT
DTSTART;TZID=Pacific/Auckland:20170805T180000
DTEND;TZID=Pacific/Auckland:20170805T235900
DTSTAMP:20260423T203110
CREATED:20170620T120419Z
LAST-MODIFIED:20170620T120419Z
UID:666-1501956000-1501977540@playhousecafe.co.nz
SUMMARY:International BLUES MUSIC Day Nelson NZ
DESCRIPTION:Sat 5th August: INTERNATIONAL BLUES MUSIC DAY\n$25\, Dinner from 6pm\, Show starts at 8pm.\nLoads of local blues bands descend on the Playhouse for an amazing night of music.\nFeaturing Boogie Train\, Dem Blues Boys\, Coyote Blues Band\, Steve Mitchell Trio\, The Bragg Brothers and much more!!! \nBook ahead as this will be busy!
URL:https://playhousecafe.co.nz/calendar/international-blues-music-day-nelson-nz/
LOCATION:The Playhouse Cafe and Theatre Restaurant\, 171 Westdale rd\, Mapua\, 7081\, NZ
ATTACH;FMTTYPE=image/jpeg:https://playhousecafe.co.nz/wp-content/uploads/2017/06/666_image_19366223_1617528614933163_3316351162272105257_n.jpg
END:VEVENT
BEGIN:VEVENT
DTSTART;TZID=Pacific/Auckland:20170728T180000
DTEND;TZID=Pacific/Auckland:20170729T223000
DTSTAMP:20260423T203110
CREATED:20170620T120413Z
LAST-MODIFIED:20170620T120413Z
UID:664-1501264800-1501367400@playhousecafe.co.nz
SUMMARY:David Upfold Comedy Hypnotist
DESCRIPTION:Fri 28th and Sat 29th July: DAVID UPFOLD COMEDY HYPNOTIST\n$25\, Dinner from 6pm\, Show starts at 8pm\nDirect from Auckland it’s New Zealand’s best Comedy Hypnotist. This guy is the real deal\, if you want to be amazing and have a good laugh come along. If you want to get hypnotized definitely come along!!!
URL:https://playhousecafe.co.nz/calendar/david-upfold-comedy-hypnotist/
LOCATION:The Playhouse Cafe and Theatre Restaurant\, 171 Westdale rd\, Mapua\, 7081\, NZ
ATTACH;FMTTYPE=image/jpeg:https://playhousecafe.co.nz/wp-content/uploads/2017/06/664_image_19402235_1617521521600539_8574706776008683769_o.jpg
END:VEVENT
BEGIN:VEVENT
DTSTART;TZID=Pacific/Auckland:20170722T200000
DTEND;TZID=Pacific/Auckland:20170722T230000
DTSTAMP:20260423T203110
CREATED:20170620T120409Z
LAST-MODIFIED:20170620T120409Z
UID:660-1500753600-1500764400@playhousecafe.co.nz
SUMMARY:Shaking it up for Sea Shepherd
DESCRIPTION:A night of Ribald fun with the Pirates and Mermaids who are raising awareness and funds for Sea Shepherd NZ!\nFantastic burlesque and cabaret acts as well as Games and prizes including  Best costume\, so come in your naughtiest Nautical Best!\nSea Shepherd merchandise will also be available for purchase.  \nAll money goes to Sea Shepherd NZ\nhttp://www.seashepherd.org.nz/
URL:https://playhousecafe.co.nz/calendar/shaking-it-up-for-sea-shepherd/
LOCATION:The Playhouse Cafe and Theatre Restaurant\, 171 Westdale rd\, Mapua\, 7081\, NZ
ATTACH;FMTTYPE=image/jpeg:https://playhousecafe.co.nz/wp-content/uploads/2017/06/660_image_18404195_1167898779982961_2007986002950406844_o.jpg
END:VEVENT
BEGIN:VEVENT
DTSTART;TZID=Pacific/Auckland:20170722T200000
DTEND;TZID=Pacific/Auckland:20170722T230000
DTSTAMP:20260423T203110
CREATED:20170620T120409Z
LAST-MODIFIED:20170620T120409Z
UID:661-1500753600-1500764400@playhousecafe.co.nz
SUMMARY:Shaking it up for Sea Shepherd
DESCRIPTION:A night of Ribald fun with the Pirates and Mermaids who are raising awareness and funds for Sea Shepherd NZ!\nFantastic burlesque and cabaret acts as well as Games and prizes including  Best costume\, so come in your naughtiest Nautical Best!\nSea Shepherd merchandise will also be available for purchase.  \nAll money goes to Sea Shepherd NZ\nhttp://www.seashepherd.org.nz/
URL:https://playhousecafe.co.nz/calendar/shaking-it-up-for-sea-shepherd-2/
LOCATION:The Playhouse Cafe and Theatre Restaurant\, 171 Westdale rd\, Mapua\, 7081\, NZ
ATTACH;FMTTYPE=image/jpeg:https://playhousecafe.co.nz/wp-content/uploads/2017/06/661_image_18404195_1167898779982961_2007986002950406844_o.jpg
END:VEVENT
BEGIN:VEVENT
DTSTART;TZID=Pacific/Auckland:20170721T180000
DTEND;TZID=Pacific/Auckland:20170721T233000
DTSTAMP:20260423T203110
CREATED:20170620T120404Z
LAST-MODIFIED:20170620T120404Z
UID:657-1500660000-1500679800@playhousecafe.co.nz
SUMMARY:70's vs 80's Dance Party!
DESCRIPTION:Fri 21st July: 70’s vs 80’s DANCE PARTY\nFREE ENTRY\, Light music from 6pm\, Dancing from 730 till late.\nWhich do you prefer? Itch your 70’s itch and cure your 80’s bug at the best dance party in town! Heaps fun\, feel free to dress up and enjoy a night of two amazing eras! Spinning all vinyl all night\, get ready to get down!!!
URL:https://playhousecafe.co.nz/calendar/70s-vs-80s-dance-party/
LOCATION:The Playhouse Cafe and Theatre Restaurant\, 171 Westdale rd\, Mapua\, 7081\, NZ
ATTACH;FMTTYPE=image/jpeg:https://playhousecafe.co.nz/wp-content/uploads/2017/06/657_image_19399695_1617524544933570_42806612577943629_n.jpg
END:VEVENT
BEGIN:VEVENT
DTSTART;TZID=Pacific/Auckland:20170716T140000
DTEND;TZID=Pacific/Auckland:20170716T170000
DTSTAMP:20260423T203110
CREATED:20170620T120402Z
LAST-MODIFIED:20170620T120402Z
UID:655-1500213600-1500224400@playhousecafe.co.nz
SUMMARY:YULIA\, Album release Matinee Show
DESCRIPTION:Sun 16th July: YULIA\, Album release MATINEE SHOW\n$30\, 230pm start\, lunch available before\, during and after show.\nThe enchanting Yulia a very pleased to showcase her new album at The Playhouse Theatre for a mid afternoon winter performance. See Yulia as you have never seen her before on this very special occasion.
URL:https://playhousecafe.co.nz/calendar/yulia-album-release-matinee-show/
LOCATION:The Playhouse Cafe and Theatre Restaurant\, 171 Westdale rd\, Mapua\, 7081\, NZ
ATTACH;FMTTYPE=image/jpeg:https://playhousecafe.co.nz/wp-content/uploads/2017/06/655_image_19401984_1617519374934087_6968437156949155286_o.jpg
END:VEVENT
BEGIN:VEVENT
DTSTART;TZID=Pacific/Auckland:20170707T180000
DTEND;TZID=Pacific/Auckland:20170707T230000
DTSTAMP:20260423T203110
CREATED:20170620T120355Z
LAST-MODIFIED:20170620T120355Z
UID:653-1499450400-1499468400@playhousecafe.co.nz
SUMMARY:Johnny Cash Tribute night
DESCRIPTION:Fri 7th July: JOHNNY CASH TRIBUTE NIGHT\n$20\, Dinner from 6pm\, Show starts at 8pm\nSteve K brings you songs and stories of man in black.\nSelling fast!
URL:https://playhousecafe.co.nz/calendar/johnny-cash-tribute-night/
LOCATION:The Playhouse Cafe and Theatre Restaurant\, 171 Westdale rd\, Mapua\, 7081\, NZ
ATTACH;FMTTYPE=image/jpeg:https://playhousecafe.co.nz/wp-content/uploads/2017/06/653_image_19400653_1617516284934396_2108130885127936302_o.jpg
END:VEVENT
BEGIN:VEVENT
DTSTART;TZID=Pacific/Auckland:20170630T190000
DTEND;TZID=Pacific/Auckland:20170630T233000
DTSTAMP:20260423T203110
CREATED:20170620T120351Z
LAST-MODIFIED:20170620T123826Z
UID:651-1498849200-1498865400@playhousecafe.co.nz
SUMMARY:Boogie Train Big Winter Blow Out at The Playhouse
DESCRIPTION:Fri 30th June: BOOGIE TRAIN Big Winter Blow Out!\n$20\, Dinner from 6pm\, Music 8pm\nNZ best Blues band hits the Playhouse stage for some mid winter madness. \nDrop offs to mapua and surrounds after the show if booked ahead of time. \nFull menu available on the night for dinner..YUM.
URL:https://playhousecafe.co.nz/calendar/boogie-train-big-winter-blow-out-at-the-playhouse/
LOCATION:The Playhouse Cafe and Theatre Restaurant\, 171 Westdale rd\, Mapua\, 7081\, NZ
ATTACH;FMTTYPE=image/jpeg:https://playhousecafe.co.nz/wp-content/uploads/2017/06/651_image_19417454_1617512311601460_5289910289726908932_o.jpg
END:VEVENT
BEGIN:VEVENT
DTSTART;TZID=Pacific/Auckland:20170625T170000
DTEND;TZID=Pacific/Auckland:20170625T190000
DTSTAMP:20260423T203110
CREATED:20170620T120346Z
LAST-MODIFIED:20170620T120346Z
UID:649-1498410000-1498417200@playhousecafe.co.nz
SUMMARY:Off the Cuff improv present 'Money!'
DESCRIPTION:Money\, it’s a necessary evil or so it seems. We can feel like slaves to it; everybody needs it and most people want more it. It makes the world go round; although gravity\, the magnetic poles and angular momentum also help. \nCome and join Off the Cuff at the Playhouse\, Mapua\, as they shake their money maker and show you that money is the root of all hilarity! We might even give some $$$ away! * \nOff the Cuff\, Nelson’s own Improv ensemble\, make your ideas mature into stories and scenes of theatrical comedy. Off the Cuff\, rough on the funny bone\, gentle on the wallet.  \n*and by “might” we mean “won’t!”. Sorry. \nOff the Cuff present ‘Money!’ – The (almost) End of Financial Year Show\nSunday 25 June\, 5pm show $15 at the door\, $12 for kids\nBook online before June 25 and get the 2-for-1 tix deal (2 tickets for $15 +GST) Click here http://tinyurl.com/yaqjxwv9  \nBookings for dinner\, call the Playhouse on 03 540 2985. The food is great!
URL:https://playhousecafe.co.nz/calendar/off-the-cuff-improv-present-money/
LOCATION:The Playhouse Cafe & Theatre Restaurant\, 171 Westdale road\, Mapua\, 7081\, NZ
ATTACH;FMTTYPE=image/png:https://playhousecafe.co.nz/wp-content/uploads/2017/06/649_image_18955076_10158821640730261_8989856256942617754_o.png
END:VEVENT
BEGIN:VEVENT
DTSTART;TZID=Pacific/Auckland:20170623T180000
DTEND;TZID=Pacific/Auckland:20170623T230000
DTSTAMP:20260423T203110
CREATED:20170620T122213Z
LAST-MODIFIED:20170620T125144Z
UID:686-1498240800-1498258800@playhousecafe.co.nz
SUMMARY:70's DISCO Free Entry!
DESCRIPTION:Fri 23rd June: 1970’s Disco Night\nFREE TO ALL\, light music and dinner from 6pm\, Dancing from 8pm till late\nDance the night away to the best of the 70’s. Dress up and have a ball. \n$35 two course Buffet on the night plus the snacks menu.
URL:https://playhousecafe.co.nz/calendar/70s-disco-free-entry/
LOCATION:The Playhouse Cafe and Theatre Restaurant\, 171 Westdale rd\, Mapua\, 7081\, NZ
ATTACH;FMTTYPE=image/jpeg:https://playhousecafe.co.nz/wp-content/uploads/2017/06/686_image_19237982_1617508738268484_6229477980250099089_o.jpg
END:VEVENT
END:VCALENDAR