BEGIN:VCALENDAR
VERSION:2.0
PRODID:-//The Playhouse Theatre - ECPv6.14.2//NONSGML v1.0//EN
CALSCALE:GREGORIAN
METHOD:PUBLISH
X-WR-CALNAME:The Playhouse Theatre
X-ORIGINAL-URL:https://playhousecafe.co.nz
X-WR-CALDESC:Events for The Playhouse Theatre
REFRESH-INTERVAL;VALUE=DURATION:PT1H
X-Robots-Tag:noindex
X-PUBLISHED-TTL:PT1H
BEGIN:VTIMEZONE
TZID:Pacific/Auckland
BEGIN:STANDARD
TZOFFSETFROM:+1300
TZOFFSETTO:+1200
TZNAME:NZST
DTSTART:20180331T140000
END:STANDARD
BEGIN:DAYLIGHT
TZOFFSETFROM:+1200
TZOFFSETTO:+1300
TZNAME:NZDT
DTSTART:20180929T140000
END:DAYLIGHT
BEGIN:STANDARD
TZOFFSETFROM:+1300
TZOFFSETTO:+1200
TZNAME:NZST
DTSTART:20190406T140000
END:STANDARD
BEGIN:DAYLIGHT
TZOFFSETFROM:+1200
TZOFFSETTO:+1300
TZNAME:NZDT
DTSTART:20190928T140000
END:DAYLIGHT
BEGIN:STANDARD
TZOFFSETFROM:+1300
TZOFFSETTO:+1200
TZNAME:NZST
DTSTART:20200404T140000
END:STANDARD
BEGIN:DAYLIGHT
TZOFFSETFROM:+1200
TZOFFSETTO:+1300
TZNAME:NZDT
DTSTART:20200926T140000
END:DAYLIGHT
END:VTIMEZONE
BEGIN:VEVENT
DTSTART;VALUE=DATE:20201114
DTEND;VALUE=DATE:20201115
DTSTAMP:20260423T102842
CREATED:20200416T010101Z
LAST-MODIFIED:20200416T010119Z
UID:1693-1605312000-1605398399@playhousecafe.co.nz
SUMMARY:Booked for Wedding
DESCRIPTION:Welcome to the Best Wedding venue in Nelson. We look forward to hosting your Wedding here at the Playhouse in the near future. Go to your wedding tab to check out what we can offer you
URL:https://playhousecafe.co.nz/calendar/booked-for-wedding-5/
ATTACH;FMTTYPE=image/jpeg:https://playhousecafe.co.nz/wp-content/uploads/2020/02/15895299_1147705885327308_113453101570741190_n-1.jpeg
END:VEVENT
BEGIN:VEVENT
DTSTART;VALUE=DATE:20201017
DTEND;VALUE=DATE:20201018
DTSTAMP:20260423T102842
CREATED:20200416T005004Z
LAST-MODIFIED:20200529T110728Z
UID:1685-1602892800-1602979199@playhousecafe.co.nz
SUMMARY:Booked for Wedding
DESCRIPTION:Welcome to the best wedding venue in Nelson! We look forward to host your Wedding in the future. Please head to the Wedding tab to see what we can offer you on your big day.
URL:https://playhousecafe.co.nz/calendar/booked-fro-wedding/
LOCATION:The Playhouse Cafe & Theatre Restaurant\, 171 Westdale road\, Mapua\, 7081\, NZ
ATTACH;FMTTYPE=image/jpeg:https://playhousecafe.co.nz/wp-content/uploads/2020/02/1142-Low.jpg
END:VEVENT
BEGIN:VEVENT
DTSTART;VALUE=DATE:20201010
DTEND;VALUE=DATE:20201011
DTSTAMP:20260423T102842
CREATED:20200416T004622Z
LAST-MODIFIED:20200416T004622Z
UID:1682-1602288000-1602374399@playhousecafe.co.nz
SUMMARY:Booked for Wedding
DESCRIPTION:Welcome to the best wedding venue in Nelson! We look forward to host your Wedding in the future. Please head to the Wedding tab to see what we can offer you on your big day.
URL:https://playhousecafe.co.nz/calendar/booked-for-wedding-3/
ATTACH;FMTTYPE=image/jpeg:https://playhousecafe.co.nz/wp-content/uploads/2020/04/0970-Low-copy-2.jpg
END:VEVENT
BEGIN:VEVENT
DTSTART;VALUE=DATE:20201004
DTEND;VALUE=DATE:20201005
DTSTAMP:20260423T102842
CREATED:20200416T002512Z
LAST-MODIFIED:20200416T002521Z
UID:1676-1601769600-1601855999@playhousecafe.co.nz
SUMMARY:Booked for Wedding
DESCRIPTION:Welcome to the best wedding venue in Nelson! We look forward to host your Wedding in the future. Please head to the Wedding tab to see what we can offer you on your big day. \nNelson Wedding Venue
URL:https://playhousecafe.co.nz/calendar/booked-for-wedding/
LOCATION:The Playhouse Cafe & Theatre Restaurant\, 171 Westdale road\, Mapua\, 7081\, NZ
END:VEVENT
BEGIN:VEVENT
DTSTART;VALUE=DATE:20201003
DTEND;VALUE=DATE:20201004
DTSTAMP:20260423T102842
CREATED:20200416T042854Z
LAST-MODIFIED:20200416T042854Z
UID:1702-1601683200-1601769599@playhousecafe.co.nz
SUMMARY:Booked for Private function
DESCRIPTION:We have free venue hire from April till Nov for your special event!
URL:https://playhousecafe.co.nz/calendar/booked-for-private-function-2/
ATTACH;FMTTYPE=image/jpeg:https://playhousecafe.co.nz/wp-content/uploads/2017/05/IGP4044.jpg
END:VEVENT
BEGIN:VEVENT
DTSTART;VALUE=DATE:20200919
DTEND;VALUE=DATE:20200920
DTSTAMP:20260423T102842
CREATED:20200713T041724Z
LAST-MODIFIED:20200717T044918Z
UID:3841-1600473600-1600559999@playhousecafe.co.nz
SUMMARY:Local Legends Original Music Night
DESCRIPTION:Lemon Grass \nSoul Kitchen \nTillar Man \nmore details to come!! \nAlways a cracker \n  \n 
URL:https://playhousecafe.co.nz/calendar/local-legends-original-music-night/
ATTACH;FMTTYPE=image/jpeg:https://playhousecafe.co.nz/wp-content/uploads/2020/05/2376_image_98002144_3345993012086706_2248628177905647616_o-18.jpg
END:VEVENT
BEGIN:VEVENT
DTSTART;VALUE=DATE:20200912
DTEND;VALUE=DATE:20200913
DTSTAMP:20260423T102842
CREATED:20200713T042243Z
LAST-MODIFIED:20200713T042313Z
UID:3847-1599868800-1599955199@playhousecafe.co.nz
SUMMARY:Closed for Private Function
DESCRIPTION:
URL:https://playhousecafe.co.nz/calendar/closed-for-private-function-3/
ATTACH;FMTTYPE=image/jpeg:https://playhousecafe.co.nz/wp-content/uploads/2019/07/Xmas-Party-pic-.jpg
END:VEVENT
BEGIN:VEVENT
DTSTART;TZID=Pacific/Auckland:20200909T080000
DTEND;TZID=Pacific/Auckland:20200909T170000
DTSTAMP:20260423T102842
CREATED:20200713T041841Z
LAST-MODIFIED:20200713T041841Z
UID:3843-1599638400-1599670800@playhousecafe.co.nz
SUMMARY:Garin College Music Night
DESCRIPTION:More details to come
URL:https://playhousecafe.co.nz/calendar/garin-college-music-night/
END:VEVENT
BEGIN:VEVENT
DTSTART;VALUE=DATE:20200903
DTEND;VALUE=DATE:20200904
DTSTAMP:20260423T102842
CREATED:20200713T041059Z
LAST-MODIFIED:20200713T041059Z
UID:3836-1599091200-1599177599@playhousecafe.co.nz
SUMMARY:Nelson Girls College Music assessment night
DESCRIPTION:More details to come
URL:https://playhousecafe.co.nz/calendar/nelson-girls-college-music-assessment-night/
END:VEVENT
BEGIN:VEVENT
DTSTART;VALUE=DATE:20200828
DTEND;VALUE=DATE:20200829
DTSTAMP:20260423T102842
CREATED:20200713T004505Z
LAST-MODIFIED:20200713T004505Z
UID:3824-1598572800-1598659199@playhousecafe.co.nz
SUMMARY:Closed for Private function
DESCRIPTION:We look forward to hosting the TDC social club! \nWe would love to host your social club soon
URL:https://playhousecafe.co.nz/calendar/closed-for-private-function-2/
ATTACH;FMTTYPE=image/jpeg:https://playhousecafe.co.nz/wp-content/uploads/2020/04/0970-Low-copy-2.jpg
END:VEVENT
BEGIN:VEVENT
DTSTART;VALUE=DATE:20200815
DTEND;VALUE=DATE:20200816
DTSTAMP:20260423T102842
CREATED:20200713T004334Z
LAST-MODIFIED:20200713T004334Z
UID:3822-1597449600-1597535999@playhousecafe.co.nz
SUMMARY:Closed for Private event
DESCRIPTION:Looking forward to a great night !
URL:https://playhousecafe.co.nz/calendar/closed-for-private-event-2/
ATTACH;FMTTYPE=image/jpeg:https://playhousecafe.co.nz/wp-content/uploads/2020/02/IMG_20180303_143235.jpg
END:VEVENT
BEGIN:VEVENT
DTSTART;VALUE=DATE:20200814
DTEND;VALUE=DATE:20200815
DTSTAMP:20260423T102842
CREATED:20200713T004200Z
LAST-MODIFIED:20200713T004200Z
UID:3820-1597363200-1597449599@playhousecafe.co.nz
SUMMARY:Closed for Private Function
DESCRIPTION:We would love to host your event in the future \nTalk to us about it!
URL:https://playhousecafe.co.nz/calendar/closed-for-private-function/
ATTACH;FMTTYPE=image/jpeg:https://playhousecafe.co.nz/wp-content/uploads/2020/02/20180414_154008.jpg
END:VEVENT
BEGIN:VEVENT
DTSTART;VALUE=DATE:20200807
DTEND;VALUE=DATE:20200809
DTSTAMP:20260423T102842
CREATED:20200713T004013Z
LAST-MODIFIED:20200713T004013Z
UID:3818-1596758400-1596931199@playhousecafe.co.nz
SUMMARY:Andre Vegas Magician: La Mystique
DESCRIPTION:Fri 7th and Sat 8th August\nAndre Vegas Magician: La Mystique\n$30 show only\, 8pm\nplus option of $40 3 course set menu from 6pm \nNew Zealand’s best direct from Auckland\, plus special guest acts \nDJ Elrolio Spinning tunes after the show \nTickets direct from the ticket link below\ndinner bookings through the Playhouse. \nhttps://www.eventfinda.co.nz/2020/la-mystique/waimea
URL:https://playhousecafe.co.nz/calendar/andre-vegas-magician-la-mystique/
ATTACH;FMTTYPE=image/jpeg:https://playhousecafe.co.nz/wp-content/uploads/2020/07/3650_image_95874520_3347497911929105_4787857062594630346_n.jpg
END:VEVENT
BEGIN:VEVENT
DTSTART;VALUE=DATE:20200711
DTEND;VALUE=DATE:20200712
DTSTAMP:20260423T102842
CREATED:20200416T013442Z
LAST-MODIFIED:20200416T013442Z
UID:1695-1594425600-1594511999@playhousecafe.co.nz
SUMMARY:Closed for Private event
DESCRIPTION:Today we are having a party!
URL:https://playhousecafe.co.nz/calendar/closed-for-private-event/
ATTACH;FMTTYPE=image/jpeg:https://playhousecafe.co.nz/wp-content/uploads/2020/02/20180414_154008.jpg
END:VEVENT
BEGIN:VEVENT
DTSTART;VALUE=DATE:20200703
DTEND;VALUE=DATE:20200704
DTSTAMP:20260423T102842
CREATED:20200619T025506Z
LAST-MODIFIED:20200619T025506Z
UID:3189-1593734400-1593820799@playhousecafe.co.nz
SUMMARY:Trudy's Dance night
DESCRIPTION:A night of dancing from Trudy’s students!
URL:https://playhousecafe.co.nz/calendar/trudys-dance-night/
ATTACH;FMTTYPE=image/jpeg:https://playhousecafe.co.nz/wp-content/uploads/2017/04/RESTAURANT-PRE-SHOW.jpg
END:VEVENT
BEGIN:VEVENT
DTSTART;VALUE=DATE:20200701
DTEND;VALUE=DATE:20200703
DTSTAMP:20260423T102842
CREATED:20200619T025617Z
LAST-MODIFIED:20200619T025648Z
UID:3191-1593561600-1593734399@playhousecafe.co.nz
SUMMARY:Garin college Nights
DESCRIPTION:Its Garin College performing at The Playhouse \nDinner available from 530pm \nCall us on 5402985 to book to assure a good spot
URL:https://playhousecafe.co.nz/calendar/garin-college-nights/
END:VEVENT
BEGIN:VEVENT
DTSTART;TZID=Pacific/Auckland:20200619T080000
DTEND;TZID=Pacific/Auckland:20200619T170000
DTSTAMP:20260423T102842
CREATED:20200619T025744Z
LAST-MODIFIED:20200619T025744Z
UID:3194-1592553600-1592586000@playhousecafe.co.nz
SUMMARY:Waimea College Performance night
DESCRIPTION:Its Waimea College Performance night \nDinner available from 530pm \nCall us on 5402985 to assure a good spot
URL:https://playhousecafe.co.nz/calendar/waimea-college-performance-night/
END:VEVENT
BEGIN:VEVENT
DTSTART;VALUE=DATE:20200530
DTEND;VALUE=DATE:20200531
DTSTAMP:20260423T102842
CREATED:20200530T100243Z
LAST-MODIFIED:20200530T100243Z
UID:2650-1590796800-1590883199@playhousecafe.co.nz
SUMMARY:booked for wedding
DESCRIPTION:We love to host nelson weddings here at the playhouse
URL:https://playhousecafe.co.nz/calendar/booked-for-wedding-4/
ATTACH;FMTTYPE=image/jpeg:https://playhousecafe.co.nz/wp-content/uploads/2017/05/Bronwyn-Craig-300.jpg
END:VEVENT
BEGIN:VEVENT
DTSTART;VALUE=DATE:20200530
DTEND;VALUE=DATE:20200531
DTSTAMP:20260423T102842
CREATED:20200530T100025Z
LAST-MODIFIED:20200530T100025Z
UID:2648-1590796800-1590883199@playhousecafe.co.nz
SUMMARY:Booked for Wedding
DESCRIPTION:We are booked for a wedding today
URL:https://playhousecafe.co.nz/calendar/booked-for-wedding-2/
ATTACH;FMTTYPE=image/jpeg:https://playhousecafe.co.nz/wp-content/uploads/2020/02/15871689_1147705665327330_7079439977177419135_n.jpeg
END:VEVENT
BEGIN:VEVENT
DTSTART;VALUE=DATE:20200401
DTEND;VALUE=DATE:20200501
DTSTAMP:20260423T102843
CREATED:20200416T014627Z
LAST-MODIFIED:20200416T014627Z
UID:1699-1585699200-1588291199@playhousecafe.co.nz
SUMMARY:Closed due to Covid 19
DESCRIPTION:
URL:https://playhousecafe.co.nz/calendar/closed-due-to-covid-19/
END:VEVENT
BEGIN:VEVENT
DTSTART;TZID=Pacific/Auckland:20180630T190000
DTEND;TZID=Pacific/Auckland:20180630T233000
DTSTAMP:20260423T102843
CREATED:20180516T014709Z
LAST-MODIFIED:20180705T032358Z
UID:1148-1530385200-1530401400@playhousecafe.co.nz
SUMMARY:Best 80s Night Ever!!!
DESCRIPTION:Best 80s Night Ever!!!\n\nSaturday 30th June \nMusic from 730pm\nFREE Entry\nRelive the glory days and feel like a virgin again! Wake me up before you go\, because with or without you\, we’ll be dancing with somebody\, as we live on prayer with girls just wanting to have fun in Africa! Beat it on down to the Playhouse\, for this night of careless whispers\, as we get physical and footloose. Don’t feel under pressure to come on Eilleen\, but if you miss out you may get a total eclipse of the heart.
URL:https://playhousecafe.co.nz/calendar/best-80s-night-ever/
END:VEVENT
BEGIN:VEVENT
DTSTART;TZID=Pacific/Auckland:20180629T200000
DTEND;TZID=Pacific/Auckland:20180629T230000
DTSTAMP:20260423T102843
CREATED:20180516T004401Z
LAST-MODIFIED:20180516T004412Z
UID:1130-1530302400-1530313200@playhousecafe.co.nz
SUMMARY:Another side of: Paul Ubana Jones
DESCRIPTION:Another side of: Paul Ubana Jones\nBob Dylan\, Donovan and Ubana\nFriday 29th June\nShow from 8pm\, Dinner 6pm\n$30 Entry\nUnique interpretations of works by Dylan.Donovan.Jansch.and Ubana Jones. \nExperience another side of Paul Ubana Jones where he explores his early influences and how they shaped his unique style.
URL:https://playhousecafe.co.nz/calendar/another-side-of-paul-ubana-jones/
END:VEVENT
BEGIN:VEVENT
DTSTART;TZID=Pacific/Auckland:20180623T190000
DTEND;TZID=Pacific/Auckland:20180623T233000
DTSTAMP:20260423T102843
CREATED:20180516T014355Z
LAST-MODIFIED:20180516T014427Z
UID:1145-1529780400-1529796600@playhousecafe.co.nz
SUMMARY:Soul Train 70's Disco
DESCRIPTION:Soul Train 70’s Disco\nSat 23rd June\nMusic from 730pm\nFREE Entry\nHustle on down to the Bus Stop and jump on the Soul Train for night of funky (chicken) dance music! Get your 70 glad rags on for a night of fun and dancing.\nAll vinyl all night long
URL:https://playhousecafe.co.nz/calendar/soul-train-70s-disco/
END:VEVENT
BEGIN:VEVENT
DTSTART;TZID=Pacific/Auckland:20180616T080000
DTEND;TZID=Pacific/Auckland:20180616T170000
DTSTAMP:20260423T102843
CREATED:20180516T014041Z
LAST-MODIFIED:20180516T014530Z
UID:1142-1529136000-1529168400@playhousecafe.co.nz
SUMMARY:Discotheque: A Groovy 1960s night
DESCRIPTION:Discotheque: A Groovy 1960s night\nSat 16th June\nMusic from 730pm\nFREE Entry\nTwist the night away in shaggadellic night of 60’s grooveness baby!\nDo the Watusi\, The Shampoo\, The Swim and The Jerk at the hippest club in town!\nTop it off with a Frug competition and be prepared for a psychedelic night of swagger and style. Dress up 60s theme.
URL:https://playhousecafe.co.nz/calendar/discotheque-a-groovy-1960s-night/
END:VEVENT
BEGIN:VEVENT
DTSTART;TZID=Pacific/Auckland:20180615T193000
DTEND;TZID=Pacific/Auckland:20180615T223000
DTSTAMP:20260423T102843
CREATED:20180516T013833Z
LAST-MODIFIED:20180516T013833Z
UID:1140-1529091000-1529101800@playhousecafe.co.nz
SUMMARY:SPCA QUIZ NIGHT
DESCRIPTION:Annual SPCA Winter Quiz Night\nFriday 15th June\nQuiz from 730pm\, Dinner 6pm\nKoha donation for quiz\nJoin us to support the very good cause that is The Motueka SPCA in our annual winter Quiz night. Dancing afterwards!
URL:https://playhousecafe.co.nz/calendar/spca-quiz-night/
END:VEVENT
BEGIN:VEVENT
DTSTART;TZID=Pacific/Auckland:20180609T190000
DTEND;TZID=Pacific/Auckland:20180609T230000
DTSTAMP:20260423T102843
CREATED:20180516T005733Z
LAST-MODIFIED:20180516T013021Z
UID:1133-1528570800-1528585200@playhousecafe.co.nz
SUMMARY:Back From The Dead Dance Party
DESCRIPTION:BACK FROM THE DEAD DANCE PARTY! \nPlaying Music From People who are No Longer With Us. \nSaturday June 9th at The Playhouse Theatre \nFree Entry\, Dinner and light music from 6pm\, Dance Party from 8pm. \nDirect from the other side\, The Back From The Dead Dance Party\, only plays music from people who have died. \nInspired by the awful year that was 2016\, here is a chance to celebrate the work and art of those who have passed away by dancing the night away\, with a music of all genres and music styles. \nDress up like your favorite dead Celebs\, bring a crew and have a ball at the Dead Man’s Disco.. \nCall us on 5402985 for all bookings and transport options. \nMusic to expect at THE BACK FROM THE DEAD DANCE PARTY \nPrince \nElvis \nBB King \nDavid Bowie \nFreddy Mercery \nBeastie Boys \nThe Ramones \nJames Brown \nOtis Redding \nRay Charles \nTupac \nTribe called Quest \nBiggy Smalls \nNWA \nPatsy Cline \nSublime \nBob Marley \nGeorge Harrison \nJohn Lennon \nSam Cooke \nThe Doors \nJimmy Hendrix \nWhitney Houston \nMicheal Jackson \nAnd many many many many many more
URL:https://playhousecafe.co.nz/calendar/back-from-the-dead-dance-party/
END:VEVENT
BEGIN:VEVENT
DTSTART;TZID=Pacific/Auckland:20180608T200000
DTEND;TZID=Pacific/Auckland:20180608T230000
DTSTAMP:20260423T102843
CREATED:20180516T013718Z
LAST-MODIFIED:20180516T013718Z
UID:1137-1528488000-1528498800@playhousecafe.co.nz
SUMMARY:Adam McGrath of The Eastern Live and Solo
DESCRIPTION:Adam McGrath\nFriday 8th June\nShow from 8pm\, Dinner 6pm\n$20 Entry\nThe rough riding\, hard talking\, loud singing front man from The Eastern hits the road and arrives at the Playhouse for a great show full of story and song \n  \nAdam McGrath is a folk singer stationed wherever he lands. He travels the state highways and byways of New Zealand\, Australia\, Europe and parts beyond\, slinging songs and offering up low rent barroom philosophy with his band of misfits and chancers\, The Eastern. He hopes for the best\, prepares for the worst and believes in the poetry of Smokey Robinson and the Miracles and the fury of word on the page. He lives alone\, cooks infrequently and is scared of flags that blow to the right. He is happiest in front of a jukebox as the call for last drinks is given\, because jukeboxes are getting harder to find\, and the last drinks call means the lock in is ever closer. His songs have gathered more than their share of good reviews in NZ and overseas\, he’s been nominated for a couple of serious music awards (including the Apra Silver Scroll)\, Graham Reid from the NZ herald called him ‘NZ’s toughest minded songwriter’ and Barry Saunders from The Warratahs simply described him as “The Truth”. \nWith The Eastern and solo he has shared stages with and opened for Fleetwood Mac\, Steve Earle\, Old Crow Medicine Show\, Jimmy Barnes and many more. But he takes the most pride in getting up and putting it down\, in both small towns and big\, choosing real gigs over showcases and the joy of shaking hands and sharing beers with the folks met along the way. \nHis song ‘Hope and Wire’ became the inspiration for the tv3 drama series ‘Hope and Wire’ directed by Gaylene Preston\, and was noted for his community work during the Christchurch earthquake. \nThe Eastern are renowned for their ferocious roof raising live shows and have gathered a reputation for being the country’s hardest working band playing up to and beyond 200 shows a year\, every year. Their latest album ‘The Territory’ was described as one of the best albums of 2014 from any band in any country by No Depression magazine. \nAlthough the gathering of such plaudits makes him blush behind his rapidly graying beard\, McGrath is very thankful and hopes that in someway this might help him in continuing to pay his rent through his roundabout stories and admittedly pretty crappy guitar playing. A people’s player\, he works his ass off for any audience he finds himself in front of. Through\, yarns\, ballads and barnstormers\, he goes looking most nights of the year for that deep well of magic that threads through the humble folk song. Described as “two parts Woody Guthrie\, one part revival meeting and one part group hug” a McGrath show goes straight for the spirit level in all of us. Looking deep for the heart and hoping to reach the thinking part of the brain all the while strumming his three chords like his life depended on it. Which of course it does\, as of course it should. \nJoined by a hard driving and sympathetic rhythm section “The Roaring Days”\, A McGrath show swings wild and raw\, swelling your heart\, moving your feet and going deep for your thinking muscle. Stories and songs and boundless energy\, this a show to be moved by.
URL:https://playhousecafe.co.nz/calendar/adam-mcgrath-of-the-eastern-live-and-solo/
END:VEVENT
BEGIN:VEVENT
DTSTART;TZID=Pacific/Auckland:20180603T183000
DTEND;TZID=Pacific/Auckland:20180603T230000
DTSTAMP:20260423T102843
CREATED:20180502T091120Z
LAST-MODIFIED:20180502T091120Z
UID:1110-1528050600-1528066800@playhousecafe.co.nz
SUMMARY:Grandiose Cabaret - Nelson
DESCRIPTION:TICKETS HERE!!! \nFrom the same people who brought Grandiose Burlesque last year\, now bring you Grandiose Cabaret. \nA bevvy of R18 Variety and Cabaret performers from around NZ will descend on The Playhouse on June 3rd. \nYou can expect a sumptuous\, spectacular of Burlesque\, Singing\, Bellydance\, Magic and more. We sold out fast last year\, so don’t delay\, book your table now. \nTickets are $25 available from Eventfinda.\nDoorsales $35 cash only.\nDinner bookings available by calling the venue.
URL:https://playhousecafe.co.nz/calendar/grandiose-cabaret-nelson/
END:VEVENT
BEGIN:VEVENT
DTSTART;TZID=Pacific/Auckland:20180602T180000
DTEND;TZID=Pacific/Auckland:20180602T233000
DTSTAMP:20260423T102843
CREATED:20180502T090811Z
LAST-MODIFIED:20180502T090943Z
UID:1107-1527962400-1527982200@playhousecafe.co.nz
SUMMARY:LADI6 and Parks and Friends
DESCRIPTION:Part one begins June 1st to June 30th and will deliver 13 dates to the regions\, with a full performance of the Royal Blue 3000 album with her producer Parks on DJ duties with his MPC live and homemade hand-crafted modular synth. \nTaking the tour to the regions was something Ladi6 specifically wanted to do.   Preferring to take the music live and direct to the people and places she very rarely gets to see\, Ladi6 wants to celebrate the release of her 2017 award-winning album Royal Blue 3000 with them first. \nWellington native now Auckland based BaseFm DJ legend\, DylanC\, will join Ladi6 and Parks who hope to also add some local talent from each town to the line-up as word gets out. \nTICKETS HERE!!!
URL:https://playhousecafe.co.nz/calendar/ladi6-and-parks-and-friends/
END:VEVENT
BEGIN:VEVENT
DTSTART;TZID=Pacific/Auckland:20180526T080000
DTEND;TZID=Pacific/Auckland:20180526T170000
DTSTAMP:20260423T102843
CREATED:20180502T090400Z
LAST-MODIFIED:20180502T090400Z
UID:1105-1527321600-1527354000@playhousecafe.co.nz
SUMMARY:Paul Madsen Super Star Show
DESCRIPTION:Paul Madsen’s Super Star Show\nSaturday 26th May – Show from 8pm\, Dinner from 6pm\n$25 entry\, Dinner $35 2 course buffet \nThe ever entertaining Paul Madsen plays all the favourites\, BeeGees\, Queens\, The Eagles\, and much much more. Paul Madsen is the real deal\, he travels to Las Vegas every year with his officially endorsed BeeGees show.\nThis show sells out\, so be in quick!!!
URL:https://playhousecafe.co.nz/calendar/paul-madsen-super-star-show/
END:VEVENT
END:VCALENDAR