BEGIN:VCALENDAR
VERSION:2.0
PRODID:-//The Playhouse Theatre - ECPv6.14.2//NONSGML v1.0//EN
CALSCALE:GREGORIAN
METHOD:PUBLISH
X-WR-CALNAME:The Playhouse Theatre
X-ORIGINAL-URL:https://playhousecafe.co.nz
X-WR-CALDESC:Events for The Playhouse Theatre
REFRESH-INTERVAL;VALUE=DURATION:PT1H
X-Robots-Tag:noindex
X-PUBLISHED-TTL:PT1H
BEGIN:VTIMEZONE
TZID:Pacific/Auckland
BEGIN:STANDARD
TZOFFSETFROM:+1300
TZOFFSETTO:+1200
TZNAME:NZST
DTSTART:20260404T140000
END:STANDARD
BEGIN:DAYLIGHT
TZOFFSETFROM:+1200
TZOFFSETTO:+1300
TZNAME:NZDT
DTSTART:20260926T140000
END:DAYLIGHT
END:VTIMEZONE
BEGIN:VEVENT
DTSTART;TZID=Pacific/Auckland:20260423T180000
DTEND;TZID=Pacific/Auckland:20260423T180000
DTSTAMP:20260423T013723
CREATED:20260405T114330Z
LAST-MODIFIED:20260418T011050Z
UID:30281-1776967200-1776967200@playhousecafe.co.nz
SUMMARY:The Andrew London Trio
DESCRIPTION:Thursday 23rd April 2026\nThe Andrew London Duo\nTix $30\, Show from 730pm\, Dinner from 6pm\nTickets available from eventfinda or contact The Playhouse direct for bookings. \nJoin Andrew and Kirsten London\, for a night of fun\, folk and laughs.\nAndrew London is of Hot Club Sandwich fame and sings many of their classics in their set. \nteplayhousecafenz@gmail.com or 035402985 for table bookings
URL:https://playhousecafe.co.nz/calendar/the-andrew-london-trio/
LOCATION:171 Westdale rd\, Mapua\, New Zealand 7081
ATTACH;FMTTYPE=image/jpeg:https://playhousecafe.co.nz/wp-content/uploads/2026/04/30281_image_663086812_1568941871901321_3735867938859844504_n.jpg
END:VEVENT
END:VCALENDAR