BEGIN:VCALENDAR
VERSION:2.0
PRODID:-//The Playhouse Theatre - ECPv6.14.2//NONSGML v1.0//EN
CALSCALE:GREGORIAN
METHOD:PUBLISH
X-ORIGINAL-URL:https://playhousecafe.co.nz
X-WR-CALDESC:Events for The Playhouse Theatre
REFRESH-INTERVAL;VALUE=DURATION:PT1H
X-Robots-Tag:noindex
X-PUBLISHED-TTL:PT1H
BEGIN:VTIMEZONE
TZID:Pacific/Auckland
BEGIN:STANDARD
TZOFFSETFROM:+1300
TZOFFSETTO:+1200
TZNAME:NZST
DTSTART:20240406T140000
END:STANDARD
BEGIN:DAYLIGHT
TZOFFSETFROM:+1200
TZOFFSETTO:+1300
TZNAME:NZDT
DTSTART:20240928T140000
END:DAYLIGHT
END:VTIMEZONE
BEGIN:VEVENT
DTSTART;VALUE=DATE:20240127
DTEND;VALUE=DATE:20240128
DTSTAMP:20260421T235244
CREATED:20231217T032806Z
LAST-MODIFIED:20231217T032806Z
UID:26802-1706313600-1706399999@playhousecafe.co.nz
SUMMARY:Wedding Event
DESCRIPTION:
URL:https://playhousecafe.co.nz/calendar/wedding-event/
END:VEVENT
END:VCALENDAR